BEGIN:VCALENDAR
VERSION:2.0
PRODID:Events Booking
BEGIN:VEVENT
UID:69e4e8ed0baca
SUMMARY:2018溪頭團聚
DESCRIPTION:歡迎逢甲童軍團團友與眷屬與我們一起在充滿芬
 多精與活動記憶的 溪頭青年活動中心，共聚首\, 聽演講\
 , 享受一個心寧恬靜的周末假期。
LOCATION:南投縣鹿谷鄉內湖村溪頭森林巷15號
DTSTART:20181110T060000Z
DTEND:20181111T030000Z
DTSTAMP:20260419T143837Z
ORGANIZER;CN=FCBA 活動報名小組:MAILTO:fcba@ipro.tw
END:VEVENT
END:VCALENDAR